BEGIN:VCALENDAR
VERSION:2.0
PRODID:-//eventon.com NONSGML v1.0//EN
CALSCALE:GREGORIAN
METHOD:PUBLISH
BEGIN:VEVENT
UID:69e9fd3e8aa3f
DTSTAMP:20260423T110638Z
DTSTART:20220714T160000Z
DTEND:20220714T173000Z
LOCATION:Wastl Fanderl Schule Mauerkircherstr. 52\,  81925 München
SUMMARY:Singkreis
DESCRIPTION:Gemeinsames Singen mit Moritz Demer und Renate Hechenleitner im
 mer Donnerstag von 19.00 &#8211; 20.30 Uhr (ausgenommen Ferien und alpenlä
 ndische Singstund\,  jeder 3. Donnerstag im Monat) Je nach Wetter im Garten
  oder im Stüberl der Wastl Fanderl Schule \nhttps://volkskultur-musikschu
 le.de/events/singkreis-mit-moritz-demer/var/ri-33.l-L1
URL:https://volkskultur-musikschule.de/events/singkreis-mit-moritz-demer/var/ri-33.l-L1
END:VEVENT
END:VCALENDAR