BEGIN:VCALENDAR
VERSION:2.0
PRODID:-//eventon.com NONSGML v1.0//EN
CALSCALE:GREGORIAN
METHOD:PUBLISH
BEGIN:VEVENT
UID:69e7e3db6ac14
DTSTAMP:20260421T205347Z
DTSTART:20260204T180000Z
DTEND:20260204T200000Z
LOCATION:
SUMMARY:Tanzkurse zur Münchner Redoute 2026
DESCRIPTION:Zur Anmeldung In diesem Tanzkurs werden Tänze erlernt\,  die a
 uch auf der Münchner Redoute getanzt werden. Neben Walzer\,  Polka\,  Boar
 ischer und Münchner Francaise werden auch die grundlegenden Schritte stand
 ard- und lateinamerikanischer Tänze vermittelt. Diese Übungsabende sind v
 .a. für Tanzanfänger geeignet. Erfahrende Tänzer sind ebenfalls herzlich
  eingeladen\,  am Kurs teilzunehmen. Die[..]\nhttps://volkskultur-musikschu
 le.de/events/tanzkurse-zur-muenchner-redoute/var/ri-1.l-L1
URL:https://volkskultur-musikschule.de/events/tanzkurse-zur-muenchner-redoute/var/ri-1.l-L1
END:VEVENT
END:VCALENDAR