BEGIN:VCALENDAR
VERSION:2.0
PRODID:-//eventon.com NONSGML v1.0//EN
CALSCALE:GREGORIAN
METHOD:PUBLISH
BEGIN:VEVENT
UID:69e7387ce20b3
DTSTAMP:20260421T084236Z
DTSTART:20220219T080000Z
DTEND:20220219T163000Z
LOCATION:Wastl Fanderl Schule Mauerkircherstr. 52\,  81925 München
SUMMARY:Streichertag
DESCRIPTION:Der Streichertag richtet sich an Geigenspieler\,  Cellisten und
  Bassgeiger\,  die die Musizierpraxis in der Alpenländischen Volksmusik ke
 nnenlernen oder vertiefen möchten. Tipps zu Bogentechnik\,  Tongestaltung\
 ,  Artikulation sowie zum freien Musizieren &#8211; „Musizieren ohne Note
 n“ gehören genauso dazu wie das Kennenlernen neuer Spielstücke und die 
 Freude am gemeinsamen Musizieren. Referent: Reinhard Gusenbauer[..]\nhttps:
 //volkskultur-musikschule.de/events/streichertag/
URL:https://volkskultur-musikschule.de/events/streichertag/
END:VEVENT
END:VCALENDAR