BEGIN:VCALENDAR
VERSION:2.0
PRODID:-//eventon.com NONSGML v1.0//EN
CALSCALE:GREGORIAN
METHOD:PUBLISH
BEGIN:VEVENT
UID:69e88ac847a6e
DTSTAMP:20260422T084600Z
DTSTART:20221015T080000Z
DTEND:20221015T100000Z
LOCATION:Wastl Fanderl Schule Mauerkircherstr. 52\,  81925 München
SUMMARY:Zither?! - Probiers aus!
DESCRIPTION:Entfällt krankheitsbedingt!!! Kennst du eigentlich schon die Z
 ither? Bei unserem Schnupperworkshop am 15.10.22 hast du die Möglichkeit\,
   das Instrument kennenzulernen und die vielen Saiten zum klingen zu bringe
 n. Instrumente werden bereit gestellt. Referentin: Claudia Höpfl Anmeldesc
 hluss: Freitag\,  07. Oktober 2022 weitere Informationen und Amelung unter 
 volkskultur@volkskultur-musikschule.de oder unter 089 987[..]\nhttps://volk
 skultur-musikschule.de/events/zither-probiers-aus/
URL:https://volkskultur-musikschule.de/events/zither-probiers-aus/
END:VEVENT
END:VCALENDAR