BEGIN:VCALENDAR
VERSION:2.0
PRODID:-//eventon.com NONSGML v1.0//EN
CALSCALE:GREGORIAN
METHOD:PUBLISH
BEGIN:VEVENT
UID:69e9d98156a82
DTSTAMP:20260423T083409Z
DTSTART:20261031T140000Z
DTEND:20261106T100000Z
LOCATION:Kloster Scheyern Schyrenpl. 1\,  85298 Scheyern
SUMMARY:Kammermusikwoche
DESCRIPTION:Zur Anmeldung Die alpenländische Musik bedient sich vorwiegend
  des Spektrums der klassischen Musik – sei es in der Melodieführung\,  d
 er Taktwahl oder in der Dreiteilung des klassischen Menuetts und seiner Ton
 arten. Umgekehrt integrieren auch klassische Komponist:innen häufig Themen
  aus der Volksmusik in ihre Werke. Auf der Kammermusikwoche 2026 führen er
 fahrene[..]\nhttps://volkskultur-musikschule.de/events/kammermusikwoche-202
 4/
URL:https://volkskultur-musikschule.de/events/kammermusikwoche-2024/
END:VEVENT
END:VCALENDAR