BEGIN:VCALENDAR
VERSION:2.0
PRODID:-//eventon.com NONSGML v1.0//EN
CALSCALE:GREGORIAN
METHOD:PUBLISH
BEGIN:VEVENT
UID:69eaacedf1e92
DTSTAMP:20260423T233613Z
DTSTART:20260519T200000Z
DTEND:20260519T213000Z
LOCATION:St. Peter und Paul Feldmochinger Str. 401
SUMMARY:Maiansingen
DESCRIPTION:Im Marienmonat Mai lädt der Münchner Kreis für Volksmusik\, 
  Lied und Tanz e.V. zu einem festlichen Konzert mit Volksmusik und Klassik 
 nach St. Peter und Paul in München-Feldmoching ein. Der Ursprung wurde ber
 eits im Barock gelegt. 1841 feierten drei Ordensschwestern in Haidhausen di
 e erste Maiandacht in Deutschland. Seitdem wird diese[..]\nhttps://volkskul
 tur-musikschule.de/events/maiansingen/
URL:https://volkskultur-musikschule.de/events/maiansingen/
END:VEVENT
END:VCALENDAR