BEGIN:VCALENDAR
VERSION:2.0
PRODID:-//eventon.com NONSGML v1.0//EN
CALSCALE:GREGORIAN
METHOD:PUBLISH
BEGIN:VEVENT
UID:69e738b4b9d53
DTSTAMP:20260421T084332Z
DTSTART:20260503T110000Z
DTEND:20260503T130000Z
LOCATION:Wastl Fanderl Schule Mauerkircherstr. 52\,  81925 München
SUMMARY:3. Heimat- und Erlebnistag
DESCRIPTION:Im Rahmen des dritten bayernweiten „Heimat.Erlebnistag&#8220;
  gestaltet die Wastl Fanderl Schule einen vielfältigen Tag mit volksmusika
 lischen Besonderheiten. In einem bunten Konzert unserer Schüler und Lehrkr
 äfte geben wir einen Einblick in unsere Arbeit und stellen unser Haus vor.
  Mitwirkende: SchülerInnen\,  LehrerInnen der Wastl Fanderl Schule Eintrit
 t Frei. &nbsp; &nbsp; © Bayerisches Staatsministerium[..]\nhttps://volksk
 ultur-musikschule.de/events/2-heimat-und-erlebnistag/
URL:https://volkskultur-musikschule.de/events/2-heimat-und-erlebnistag/
END:VEVENT
END:VCALENDAR