BEGIN:VCALENDAR
VERSION:2.0
PRODID:-//eventon.com NONSGML v1.0//EN
CALSCALE:GREGORIAN
METHOD:PUBLISH
BEGIN:VEVENT
UID:69e8887d81174
DTSTAMP:20260422T083613Z
DTSTART:20240910T154500Z
DTEND:20240910T163000Z
LOCATION:Wastl Fanderl Schule Mauerkircherstr. 52\,  81925 München
SUMMARY:Blockflötenkurs I Ab 6-8 Jahren
DESCRIPTION:Ihr Kind ist zwischen 6-8 Jahre alt\,  noch zu klein/jung für 
 ein weiterführendes Instrument\,  zu groß für unser Ikarus-Programm oder
  hat einfach nur wahnsinnig Lust Blockflöte zu lernen? Die Blockflöte ist
  ein leichter Einstieg in das Musizieren. Hier lernen die Kinder gemeinsam 
 zu musizieren\,  die ersten Stücke auf der Blockflöte[..]\nhttps://volksk
 ultur-musikschule.de/events/blockfloetenkurs-i-ab-6-8-jahren/
URL:https://volkskultur-musikschule.de/events/blockfloetenkurs-i-ab-6-8-jahren/
END:VEVENT
END:VCALENDAR