BEGIN:VCALENDAR
VERSION:2.0
PRODID:-//eventon.com NONSGML v1.0//EN
CALSCALE:GREGORIAN
METHOD:PUBLISH
BEGIN:VEVENT
UID:69e66ec743989
DTSTAMP:20260420T182159Z
DTSTART:20260622T190000Z
DTEND:20260622T235900Z
LOCATION:Johannissaal\,  Schloss Nymphenburg Schloss Nymphenburg 1\,  80383 München
SUMMARY:Klangvolle Mitsommernacht
DESCRIPTION:In diesem besonderen Konzert zeigen unsere Lehrerinnen und Lehr
 er ihre Leidenschaft für die Musik und präsentieren eine Auswahl ihrer sc
 hönsten Stücke. Die Musiker*innen widmen sich dabei dem spannenden Überg
 ang zwischen Volksmusik und Klassik. Der Johannsissaal im Schloss Nymphenbu
 rg bietet für diese Klangreise den idealen Rahmen. Mitwirkende Dozent*inne
 n der Wastl Fanderl[..]\nhttps://volkskultur-musikschule.de/events/klangvol
 les-mitsommernachtskonzert/
URL:https://volkskultur-musikschule.de/events/klangvolles-mitsommernachtskonzert/
END:VEVENT
END:VCALENDAR