BEGIN:VCALENDAR
VERSION:2.0
PRODID:-//eventon.com NONSGML v1.0//EN
CALSCALE:GREGORIAN
METHOD:PUBLISH
BEGIN:VEVENT
UID:69e9dec9ce2f2
DTSTAMP:20260423T085641Z
DTSTART:20251115T090000Z
DTEND:20251115T123000Z
LOCATION:Wastl Fanderl Schule Mauerkircherstr. 52\,  81925 München
SUMMARY:Musikalisches Gestalten
DESCRIPTION:Zur Anmeldung m. Tagesablauf „Das Beste in der Musik steht ni
 cht in den Noten.“ (Gustav Mahler) In diesem Gestaltungskurs untersucht T
 obias Kaiser\,  wie Musik interpretiert werden kann – jenseits der reinen
  Notenangaben. Anhand live gespielter Beispiele zeigt er\,  wie durch den E
 insatz unterschiedlicher Gestaltungs- parameter (Phrasierung\,  Dynamik\,  
 Artikulation usw.) authentische[..]\nhttps://volkskultur-musikschule.de/eve
 nts/musikalisches-gestalten-2/
URL:https://volkskultur-musikschule.de/events/musikalisches-gestalten-2/
END:VEVENT
END:VCALENDAR